BEGIN:VCALENDAR
VERSION:2.0
PRODID:-//OIRP.LU: Okręgowa Izba Radców Prawnych w Lublinie - ECPv5.3.2.1//NONSGML v1.0//EN
CALSCALE:GREGORIAN
METHOD:PUBLISH
X-WR-CALNAME:OIRP.LU: Okręgowa Izba Radców Prawnych w Lublinie
X-ORIGINAL-URL:https://oirp.lu
X-WR-CALDESC:Wydarzenia na OIRP.LU: Okręgowa Izba Radców Prawnych w Lublinie
BEGIN:VTIMEZONE
TZID:Europe/Warsaw
BEGIN:DAYLIGHT
TZOFFSETFROM:+0100
TZOFFSETTO:+0200
TZNAME:CEST
DTSTART:20190331T010000
END:DAYLIGHT
BEGIN:STANDARD
TZOFFSETFROM:+0200
TZOFFSETTO:+0100
TZNAME:CET
DTSTART:20191027T010000
END:STANDARD
END:VTIMEZONE
BEGIN:VEVENT
DTSTART;VALUE=DATE:20190111
DTEND;VALUE=DATE:20190204
DTSTAMP:20210425T205430
CREATED:20181217T112150Z
LAST-MODIFIED:20181217T112150Z
UID:2877-1547164800-1549238399@oirp.lu
SUMMARY:Zostań Mediatorem - szkolenie z mediacji
DESCRIPTION:Cel szkolenia: \n\nprzygotowanie uczestników do pełnienia roli mediatora poprzez zdobycie wiedzy teoretycznej i praktycznych umiejętności z zakresu mediacji a w szczególności umiejętności rozumienia i rozwiązywania konfliktów\, skutecznej komunikacji i negocjacji;\npozyskanie przez uczestników wiedzy dotyczącej umocowania prawnego mediacji;\nnabycie umiejętności w rozwiązywaniu konfliktów w codziennym życiu i w swoim miejscu pracy.\nProgram szkolenia jest zgodny ze standardami szkolenia mediatorów zawartymi w załączniku do Rozporządzenia Ministra Sprawiedliwości z 18 maja 2001 r. (Dz.U. 2001 Nr 56 poz.591) oraz ze standardami szkolenia mediatorów Społecznej Rady ds. Alternatywnych Metod Rozwiązywania Konfliktów i Sporów przy Ministrze Sprawiedliwości z 29 października 2007r.\n\nOdbiorcy szkolenia – zapraszamy:\n• pedagogów\, pracowników socjalnych\, kuratorów\, socjologów oraz psychologów;\n• radców prawnych i aplikantów radcowskich; adwokatów i aplikantów adwokackich\,rzeczników patentowych;\n• menadżerów\, konsultantów\, pracowników działów HR;\n• absolwentów studiów lub studentów wyżej wymienionych;\n• wszystkich chętnych i zainteresowanych nowoczesnymi metodami rozwiązywania konfliktów i sporów \nTermin szkolenia:  11\,12\,13\, styczeń 2019r.\,1\,2\,3\, luty 2019r.  piątki od godź. 13.00- 19.00\, soboty\, niedziele od 9.00-16.00 \nCzas trwania: 40 godzin zegarowych\, grupy  do 20 osób \nProgram szkolenia:\n1. Rodzaje i zastosowanie mediacji;\n2. Psychologia konfliktu;\n3. Procedury rozwiązywania konfliktów – podobieństwa i różnice;\n4. Psychologia komunikacji i elementy procesu negocjacji niezbędne w prowadzeniu mediacji;\n5. Proces mediacji\, jego zasady\, przebieg oraz rola i zadania mediatora;\n6. Narzędzia\, techniki i strategie mediacyjne;\n7. Sytuacje trudne podczas mediacji;\n8. Psychologiczne i społeczne wskazania i przeciwwskazania do prowadzenia mediacji;\n9. Kontekst prawny i organizacyjny prowadzenia mediacji – procedury mediacyjne w Polsce i na świecie;\n10. Symulacje mediacji prowadzonych samodzielnie oraz z drugim mediatorem – trening praktycznych umiejętności prowadzenia mediacji. \nProwadzący: doświadczeni trenerzy z zakresu programu szkolenia: \nMaciej Podraska– absolwent Uniwersytetu Mikołaja Kopernika w Toruniu/Wydział Prawa i Administracji\, absolwent studiów podyplomowych Integracji Europejskiej Akademii Ekonomicznej w Poznaniu. Absolwent szkoły trenerów biznesu – posiada certyfikat trenera biznesu. Mediator Ośrodka Mediacji przy Okręgowej Izbie Radców Prawnych w Bydgoszczy. Posiada ponad 10 letnie doświadczenie jako menadżer odpowiedzialny za nadzór i motywowanie pracowników działu sprzedaży oraz negocjacje z kluczowymi partnerami biznesowymi ogólnopolskich firm pośrednictwa finansowego. Trener biznesu z 9 letnim doświadczeniem w prowadzeniu szkoleń z zakresu negocjacji handlowych i biznesowych\, technik obsługi klienta\, zarządzania zasobami ludzkimi i kierowaniem zespołem\, Zarzadzania sobą w czasie\, komunikacji interpersonalnej\, asertywności. Od 2003 roku prowadzi własną firmę szkoleniową specjalizującą się w szkoleniach oraz coachingu. \nRobert Sadowski– absolwent Prawa i Administracji na Uniwersytecie Mikołaja Kopernika w Toruniu\, od 20 lat pracuje w administracji celnej\, od 2009 roku jest trener i wykładowca umiejętności miękkich. Prowadzi zajęcia mi: z komunikacji interpersonalnej\, asertywności\, zarządzania stresem\, konfliktem\, kreatywności\, mediacji\, negocjacji\, budowania zespołów\, skutecznej oceny okresowej. Prowadzi szkolenia w ramach programu 50+. Przeszkolił ponad 1700 uczestników w trakcie 1500 godzin wykładowych. Jest także praktykującym mediatorem\, zarówno przy Sądach jak i w Służbie Celnej gdzie zajmuje się głównie zjawiskami niepożądanymi\, w szczególności mobbingiem\, dyskryminacją i molestowaniem. Jest także asesorem wewnętrznym i bierze udział w sesjach AC/DS. Dodatkowo działa społecznie jako przewodniczący związków zawodowych w zakresie lokalnym jak i krajowym. \nKoordynator merytoryczny: Irena Paczkowska – nauczyciel akademicki w Wyższej Szkole Bankowej w Toruniu i Bydgoszczy oraz w Akademii Holistycznej w Gdyni. Wykładowca i opiekun studiów podyplomowych na WSB Negocjacje i Mediacje w Biznesie. Organizatorka i prowadząca szkolenia m.in. z zakresu negocjacji\, mediacji\ni komunikacji interpersonalnej.  Założyciel i Prezes Stowarzyszenia Strefa Mediacji. Inicjator powstania kół naukowych przy Wyższej Szkole Bankowej w Toruniu: Koło Naukowe Psychologii Negocjacji i Mediacji oraz Koło Naukowe Psychologii Praktycznej. Praktykująca mediatorka sądowa\, wykonująca swój zawód z zamiłowania i z wielką pasją. Wpisana na listę mediatorów stałych prowadzoną w Sądach Okręgowych w Bydgoszczy\, Toruniu i we Włocławku. Kilkudziesięcioletnie doświadczenie biznesowe. przedsiębiorca\, konsultant\ni doradca biznesowy\, certyfikowany trener zmian\, certyfikowany trener FRIS®. \nMiejsce szkolenia: siedziba Okręgowej Izby Radców Prawnych w Bydgoszczy\, Gdańska 68/7\, 85-021 Bydgoszcz\, II p. \nKoszt: 1500 zł. brutto\, zgłoszenia należy składać do dnia 7.01.2019r. \nCena szkolenia obejmuje: materiały szkoleniowe\, serwis kawowy pow. 6 godzin szkolenia (kawa\, herbata\, ciastka) a także możliwość kontaktowania się z trenerem(mailowo) przez okres jednego miesiąca od zakończenia szkolenia \nKorzyści:\nOprócz niezbędnej wiedzy teoretycznej jak i praktycznej w zakresie alternatywnych metod rozwiązywania sporów Uczestnicy szkolenia otrzymają certyfikat z informacją o wymiarze czasowym i programie merytorycznym szkolenia. uprawniający do samodzielnego prowadzenia mediacji i wpisu na listę mediatora sądowego. \nRezygnacja ze szkoleń i odwołanie szkoleń :\n1. W przypadku rezygnacji ze szkolenia przez osobę zgłoszoną\, nie później niż na 3 dni przed rozpoczęciem pierwszego zjazdu organizator zwraca wpłatę dokonaną przez uczestnika\, po potrąceniu 30% wartości szkolenia .\n2. W przypadku rezygnacji uczestnika ze szkolenia w okresie późniejszym niż na 3 dni przed rozpoczęciem pierwszego zjazdu wpłacona kwota nie jest zwracana.\n3. Organizator zastrzega sobie prawo do odwołania lub zmiany daty szkolenia w przypadku zgłoszenia mniej niż 6 osób.\n4. W przypadku odwołania lub zmiany daty szkolenia przez organizatora (np. z powodu zgłoszenia zbyt małej liczby uczestników) zgłoszonym osobom przysługuje zwrot całości wpłaconej kwoty. Zwrot następuje nie później niż 14 dni od planowanej daty pierwszego dnia odwołanego szkolenia.\n5. Osoba zgłoszona na szkolenie może odstąpić od zwrotu zaliczki jeżeli decyduje się na udział w innej edycji tego samego szkolenia.
URL:https://oirp.lu/wydarzenie/zostan-mediatorem-szkolenie-z-mediacji/
LOCATION:Okręgowa Izba Radców Prawnych w Bydgoszczy
CATEGORIES:Szkolenia organizowane przez podmioty zewnętrzne
ATTACH;FMTTYPE=image/jpeg:https://oirp.lu/wp-content/uploads/2018/12/mediacje.jpg
END:VEVENT
BEGIN:VEVENT
DTSTART;VALUE=DATE:20190124
DTEND;VALUE=DATE:20190126
DTSTAMP:20210425T205430
CREATED:20181025T123307Z
LAST-MODIFIED:20181205T134847Z
UID:2694-1548288000-1548460799@oirp.lu
SUMMARY:Warsztaty "Zarządzanie projektami dla prawników"
DESCRIPTION:Dziennik gospodarczy Puls Biznesu zaprasza do wzięcia udziału w warsztatach ZARZĄDZANIE PROJEKTAMI DLA PRAWNIKÓW\, które odbędą się 24–25 stycznia 2019 w Warszawie. \nSpecjalnie z myślą o prawnikach stworzyliśmy unikatowe warsztaty\, podczas których starannie dobrani prelegenci (prawnik + project manager) przekażą uczestnikom wiedzę\, jak dział prawny może aktywnie uczestniczyć w dużych projektach biznesowych. \nSzczegółowy program wraz z listą prelegentów: https://www.pb.pl/konferencje/zarzadzanie-projektami-dla-prawnikow-1186 \nRejestracja: https://www.pb.pl/konferencje/zarzadzanie-projektami-dla-prawnikow-1186/rejestracja \nW załączeniu publikujemy folder informacyjny.
URL:https://oirp.lu/wydarzenie/warsztaty-zarzadzanie-projektami-dla-prawnikow/
LOCATION:Warszawa
CATEGORIES:Szkolenia organizowane przez podmioty zewnętrzne
ATTACH;FMTTYPE=image/jpeg:https://oirp.lu/wp-content/uploads/2018/12/24287749027z_440_275.jpg
END:VEVENT
BEGIN:VEVENT
DTSTART;VALUE=DATE:20190125
DTEND;VALUE=DATE:20190128
DTSTAMP:20210425T205430
CREATED:20190107T151231Z
LAST-MODIFIED:20190107T151231Z
UID:3034-1548374400-1548633599@oirp.lu
SUMMARY:SKIMIL CUP 2019
DESCRIPTION:Śląska Izba Lekarska\, Śląska Izba Aptekarska i Okręgowa Izba Radców Prawnych w Katowicach mają przyjemność zaprosić lekarzy\, farmaceutów i prawników wszystkich profesji do wzięcia udziału w: \nSKIM&L CUP 2019 – V Narciarskim Pucharze Polski Lekarzy\, Radców Prawnych i Farmaceutów\,  który odbędzie się w dniach od  25 stycznia -27 stycznia  2019 r. w Szczawnicy. \nW ramach zawodów przewiduje się poniższe konkurencje  – slalom  i  slalom gigant. \nDrugiego dnia odbędzie się konferencja naukowa Medycyna –Sport –Prawo. \nRegulamin zawodów oraz ich harmonogram umieszczone zostaną na stronach samorządowych oraz  w hotelu. \nLiczba uczestników jest ograniczona\, o udziale w zawodach decyduje kolejność zgłoszeń potwierdzona dokonaną wpłatą. W razie dużej ilości zgłoszeń organizator utworzy listę rezerwową. W zależności od ilości uczestników w poszczególnych kategoriach organizator dopuszcza zmiany w regulaminie zawodów (co do kategorii wiekowych i dyscyplin). \nWszystkich przedstawicieli wolnych zawodów zainteresowanych udziałem w SKIM&L CUP 2019 prosimy o przesyłanie zgłoszeń  za pośrednictwem formularza zgłoszeniowego\, dostępnego na stronie: \n http://www.skimil.pl \nW celu uzyskania dodatkowych informacji prosimy kierować zapytania mailowe pod poniższe adresy: \nLekarze:   mariuszsmolik@gmail.com\, piotrzagorski@yahoo.com \nFarmaceuci: piotr.brukiewicz@wp.pl \nPrawnicy: pzarzecki@kancelariazarzecki.pl \nSzczegółowe informacje na temat zawodów będą zamieszczane na stronach internetowych Śląskiej Izby Lekarskiej\, Śląskiej Izby Aptekarskiej oraz Okręgowej Izby Radców Prawnych w Katowicach. \nWszystkich sympatyków zimowych sportów zachęcamy do udziału w SKIM&L CUP 2019. Śnieg gwarantowany –jak zawsze  w  Szczawnicy.
URL:https://oirp.lu/wydarzenie/skimil-cup-2019/
LOCATION:Szczawnica
CATEGORIES:Wydarzenia kulturalne i sportowe organizowane przez podmioty zewnętrzne
ATTACH;FMTTYPE=image/jpeg:https://oirp.lu/wp-content/uploads/2019/01/skiml-cup-2018.jpg
END:VEVENT
END:VCALENDAR