BEGIN:VCALENDAR
VERSION:2.0
PRODID:-//OIRP.LU: Okręgowa Izba Radców Prawnych w Lublinie - ECPv5.3.2.1//NONSGML v1.0//EN
CALSCALE:GREGORIAN
METHOD:PUBLISH
X-WR-CALNAME:OIRP.LU: Okręgowa Izba Radców Prawnych w Lublinie
X-ORIGINAL-URL:https://oirp.lu
X-WR-CALDESC:Wydarzenia na OIRP.LU: Okręgowa Izba Radców Prawnych w Lublinie
BEGIN:VTIMEZONE
TZID:Europe/Warsaw
BEGIN:DAYLIGHT
TZOFFSETFROM:+0100
TZOFFSETTO:+0200
TZNAME:CEST
DTSTART:20200329T010000
END:DAYLIGHT
BEGIN:STANDARD
TZOFFSETFROM:+0200
TZOFFSETTO:+0100
TZNAME:CET
DTSTART:20201025T010000
END:STANDARD
END:VTIMEZONE
BEGIN:VEVENT
DTSTART;TZID=Europe/Warsaw:20200629T140000
DTEND;TZID=Europe/Warsaw:20200629T190000
DTSTAMP:20210424T154136
CREATED:20200601T084025Z
LAST-MODIFIED:20200601T084025Z
UID:4954-1593439200-1593457200@oirp.lu
SUMMARY:WEBINAR: Podatki w praktyce radcy prawnego
DESCRIPTION:Wykładowca: radca prawny Monika Markisz
URL:https://oirp.lu/wydarzenie/webinar-podatki-w-praktyce-radcy-prawnego/
CATEGORIES:Webinaria OIRP w Lublinie
END:VEVENT
END:VCALENDAR