BEGIN:VCALENDAR
VERSION:2.0
PRODID:-//OIRP.LU: Okręgowa Izba Radców Prawnych w Lublinie - ECPv5.3.2.1//NONSGML v1.0//EN
CALSCALE:GREGORIAN
METHOD:PUBLISH
X-WR-CALNAME:OIRP.LU: Okręgowa Izba Radców Prawnych w Lublinie
X-ORIGINAL-URL:https://oirp.lu
X-WR-CALDESC:Wydarzenia na OIRP.LU: Okręgowa Izba Radców Prawnych w Lublinie
BEGIN:VTIMEZONE
TZID:Europe/Warsaw
BEGIN:DAYLIGHT
TZOFFSETFROM:+0100
TZOFFSETTO:+0200
TZNAME:CEST
DTSTART:20210328T010000
END:DAYLIGHT
BEGIN:STANDARD
TZOFFSETFROM:+0200
TZOFFSETTO:+0100
TZNAME:CET
DTSTART:20211031T010000
END:STANDARD
END:VTIMEZONE
BEGIN:VEVENT
DTSTART;TZID=Europe/Warsaw:20210315T090000
DTEND;TZID=Europe/Warsaw:20210315T140000
DTSTAMP:20210422T215011
CREATED:20210203T131909Z
LAST-MODIFIED:20210203T131909Z
UID:5521-1615798800-1615816800@oirp.lu
SUMMARY:WEBINAR: Brak lojalności pracownika jako przesłanka rozwiązania umowy o prace. Przesłanka niecelowości lub braku możliwości przywrócenia pracownika do pracy w orzecznictwie Sądu Najwyższego. Przesłanki zawarcia z pracownikiem umowy o zakazie konkurencji.
DESCRIPTION:Prowadzący: Sędzia Sądu Rejonowego dr Renata Borek-Buchajczuk – adiunkt UMCS
URL:https://oirp.lu/wydarzenie/webinar-brak-lojalnosci-pracownika-jako-przeslanka-rozwiazania-umowy-o-prace-przeslanka-niecelowosci-lub-braku-mozliwosci-przywrocenia-pracownika-do-pracy-w-orzecznictwie-sadu-najwyzszego-przeslank/
CATEGORIES:Webinaria OIRP w Lublinie
END:VEVENT
END:VCALENDAR