BEGIN:VCALENDAR
VERSION:2.0
PRODID:-//OIRP.LU: Okręgowa Izba Radców Prawnych w Lublinie - ECPv5.3.2.1//NONSGML v1.0//EN
CALSCALE:GREGORIAN
METHOD:PUBLISH
X-WR-CALNAME:OIRP.LU: Okręgowa Izba Radców Prawnych w Lublinie
X-ORIGINAL-URL:https://oirp.lu
X-WR-CALDESC:Wydarzenia na OIRP.LU: Okręgowa Izba Radców Prawnych w Lublinie
BEGIN:VTIMEZONE
TZID:Europe/Warsaw
BEGIN:DAYLIGHT
TZOFFSETFROM:+0100
TZOFFSETTO:+0200
TZNAME:CEST
DTSTART:20200329T010000
END:DAYLIGHT
BEGIN:STANDARD
TZOFFSETFROM:+0200
TZOFFSETTO:+0100
TZNAME:CET
DTSTART:20201025T010000
END:STANDARD
END:VTIMEZONE
BEGIN:VEVENT
DTSTART;TZID=Europe/Warsaw:20201026T120000
DTEND;TZID=Europe/Warsaw:20201026T170000
DTSTAMP:20210424T024039
CREATED:20200929T083421Z
LAST-MODIFIED:20201026T075246Z
UID:5193-1603713600-1603731600@oirp.lu
SUMMARY:WEBINAR: Wpływ treści tytułu egzekucyjnego i wykonawczego na dopuszczalność i zakres egzekucji
DESCRIPTION:Wykładowca: sędzia Sądu Okręgowego w Lublinie Alicja Zych
URL:https://oirp.lu/wydarzenie/webinar-wplyw-tresci-tytulu-egzekucyjnego-i-wykonawczego-na-dopuszczalnosc-i-zakres-egzekucji/
CATEGORIES:Webinaria OIRP w Lublinie
END:VEVENT
END:VCALENDAR