BEGIN:VCALENDAR
VERSION:2.0
PRODID:-//OIRP.LU: Okręgowa Izba Radców Prawnych w Lublinie - ECPv5.3.2.1//NONSGML v1.0//EN
CALSCALE:GREGORIAN
METHOD:PUBLISH
X-WR-CALNAME:OIRP.LU: Okręgowa Izba Radców Prawnych w Lublinie
X-ORIGINAL-URL:https://oirp.lu
X-WR-CALDESC:Wydarzenia na OIRP.LU: Okręgowa Izba Radców Prawnych w Lublinie
BEGIN:VTIMEZONE
TZID:Europe/Warsaw
BEGIN:DAYLIGHT
TZOFFSETFROM:+0100
TZOFFSETTO:+0200
TZNAME:CEST
DTSTART:20210328T010000
END:DAYLIGHT
BEGIN:STANDARD
TZOFFSETFROM:+0200
TZOFFSETTO:+0100
TZNAME:CET
DTSTART:20211031T010000
END:STANDARD
END:VTIMEZONE
BEGIN:VEVENT
DTSTART;TZID=Europe/Warsaw:20210215T090000
DTEND;TZID=Europe/Warsaw:20210215T140000
DTSTAMP:20210423T105506
CREATED:20210203T131721Z
LAST-MODIFIED:20210203T131721Z
UID:5517-1613379600-1613397600@oirp.lu
SUMMARY:WEBINAR: Rozprawa on-line. Postepowanie cywilne w okresie zagrożenia epidemiologicznego
DESCRIPTION:Prowadzący: Sędzia Sądu Okręgowego Piotr Jakubiec
URL:https://oirp.lu/wydarzenie/webinar-rozprawa-on-line-postepowanie-cywilne-w-okresie-zagrozenia-epidemiologicznego/
CATEGORIES:Webinaria OIRP w Lublinie
END:VEVENT
END:VCALENDAR