BEGIN:VCALENDAR
VERSION:2.0
PRODID:-//OIRP.LU: Okręgowa Izba Radców Prawnych w Lublinie - ECPv5.3.2.1//NONSGML v1.0//EN
CALSCALE:GREGORIAN
METHOD:PUBLISH
X-WR-CALNAME:OIRP.LU: Okręgowa Izba Radców Prawnych w Lublinie
X-ORIGINAL-URL:https://oirp.lu
X-WR-CALDESC:Wydarzenia na OIRP.LU: Okręgowa Izba Radców Prawnych w Lublinie
BEGIN:VTIMEZONE
TZID:Europe/Warsaw
BEGIN:DAYLIGHT
TZOFFSETFROM:+0100
TZOFFSETTO:+0200
TZNAME:CEST
DTSTART:20210328T010000
END:DAYLIGHT
BEGIN:STANDARD
TZOFFSETFROM:+0200
TZOFFSETTO:+0100
TZNAME:CET
DTSTART:20211031T010000
END:STANDARD
END:VTIMEZONE
BEGIN:VEVENT
DTSTART;TZID=Europe/Warsaw:20210222T090000
DTEND;TZID=Europe/Warsaw:20210222T140000
DTSTAMP:20210423T105519
CREATED:20210203T131806Z
LAST-MODIFIED:20210203T131806Z
UID:5519-1613984400-1614002400@oirp.lu
SUMMARY:WEBINAR: Skuteczna autoprezentacja i psychologia komunikacji z klientem dla radców prawnych
DESCRIPTION:Prowadzący: Monika Kitowska – specjalista psychologii klinicznej PSK 4 Klinika Neurologiczna
URL:https://oirp.lu/wydarzenie/webinar-skuteczna-autoprezentacja-i-psychologia-komunikacji-z-klientem-dla-radcow-prawnych/
CATEGORIES:Webinaria OIRP w Lublinie
END:VEVENT
END:VCALENDAR