BEGIN:VCALENDAR
VERSION:2.0
PRODID:-//OIRP.LU: Okręgowa Izba Radców Prawnych w Lublinie - ECPv5.3.2.1//NONSGML v1.0//EN
CALSCALE:GREGORIAN
METHOD:PUBLISH
X-WR-CALNAME:OIRP.LU: Okręgowa Izba Radców Prawnych w Lublinie
X-ORIGINAL-URL:https://oirp.lu
X-WR-CALDESC:Wydarzenia na OIRP.LU: Okręgowa Izba Radców Prawnych w Lublinie
BEGIN:VTIMEZONE
TZID:Europe/Warsaw
BEGIN:DAYLIGHT
TZOFFSETFROM:+0100
TZOFFSETTO:+0200
TZNAME:CEST
DTSTART:20190331T010000
END:DAYLIGHT
BEGIN:STANDARD
TZOFFSETFROM:+0200
TZOFFSETTO:+0100
TZNAME:CET
DTSTART:20191027T010000
END:STANDARD
END:VTIMEZONE
BEGIN:VEVENT
DTSTART;VALUE=DATE:20190516
DTEND;VALUE=DATE:20190518
DTSTAMP:20210423T103110
CREATED:20190408T094237Z
LAST-MODIFIED:20190408T094319Z
UID:3652-1557964800-1558137599@oirp.lu
SUMMARY:Ogólnopolska konferencja naukowa "Aktualne problemy odpowiedzialności za naruszenie dyscypliny finansów publicznych"
DESCRIPTION:Zapraszamy do udziału w Ogólnopolskiej Konferencji Naukowej pt. “Aktualne problemy odpowiedzialności za naruszenie dyscypliny finansów publicznych”\, która odbędzie się w Toruniu w dniach 16-17 maja 2019 r. Szczegółowe informacje dostępne są w załączniku oraz pod adresem www.dfp2019.umk.pl \n\n\n			\n	\n			Pliki do pobrania	\n\n\n\n	\n\n	\n		\n		\n\n			\n							 \n			\n							\n			PROGRAM KONFERENCJI\n			\n			\n\n			\n			\n			\n			\n							Rozmiar pliku: 151 KB\n			\n			\n		\n\n	\n		\n		\n\n			\n							 \n			\n							\n			Formularz rejestracyjny\n			\n			\n\n			\n			\n			\n			\n							Rozmiar pliku: 21 KB\n			\n			\n		\n\n	\n		\n		\n\n			\n							 \n			\n							\n			KONFERENCJA Zaproszenie\n			\n			\n\n			\n			\n			\n			\n							Rozmiar pliku: 259 KB
URL:https://oirp.lu/wydarzenie/ogolnopolska-konferencja-naukowa-aktualne-problemy-odpowiedzialnosci-za-naruszenie-dyscypliny-finansow-publicznych/
LOCATION:Hotel Bulwar\, ul. Bulwar Filadelfijski 18\, Toruń
CATEGORIES:Szkolenia organizowane przez podmioty zewnętrzne
END:VEVENT
END:VCALENDAR