BEGIN:VCALENDAR
VERSION:2.0
PRODID:-//OIRP.LU: Okręgowa Izba Radców Prawnych w Lublinie - ECPv5.3.2.1//NONSGML v1.0//EN
CALSCALE:GREGORIAN
METHOD:PUBLISH
X-WR-CALNAME:OIRP.LU: Okręgowa Izba Radców Prawnych w Lublinie
X-ORIGINAL-URL:https://oirp.lu
X-WR-CALDESC:Wydarzenia na OIRP.LU: Okręgowa Izba Radców Prawnych w Lublinie
BEGIN:VTIMEZONE
TZID:Europe/Warsaw
BEGIN:DAYLIGHT
TZOFFSETFROM:+0100
TZOFFSETTO:+0200
TZNAME:CEST
DTSTART:20190331T010000
END:DAYLIGHT
BEGIN:STANDARD
TZOFFSETFROM:+0200
TZOFFSETTO:+0100
TZNAME:CET
DTSTART:20191027T010000
END:STANDARD
END:VTIMEZONE
BEGIN:VEVENT
DTSTART;VALUE=DATE:20190509
DTEND;VALUE=DATE:20190511
DTSTAMP:20210423T103025
CREATED:20190408T092738Z
LAST-MODIFIED:20190408T092738Z
UID:3645-1557360000-1557532799@oirp.lu
SUMMARY:Ogólnopolska konferencja naukowa "RODO - od analizy modelu do stosowania prawa"
DESCRIPTION:Wydział Prawa i Administracji Uniwersytetu Jagiellońskiego\, przy współudziale Okręgowej Izby Radców Prawnych w Krakowie zaprasza na ogólnopolską konferencję naukową “RODO – od analizy modelu do stosowania prawa”\, która odbędzie się w dniach 9-10 maja 2019 roku w Pałacu Larischa przy ul. Brackiej 12 w Krakowie. \nW imieniu Pana dra Marcina Sala – Szczypińskiego – Dziekana Rady Okręgowej Izby Radców Prawnych w Krakowie\, serdecznie zapraszam członków Państwa samorządu do udziału w tym wydarzeniu. \nSzczegóły dotyczące konferencji naukowej\, znajdą Państwo na naszej stronie\, pod linkiem: https://oirp.krakow.pl/dzialy/dla-radcow/doskonalenie-zawodowe/inne-szkolenia-punktowane/ogolnopolska-konferencja-naukowa-rodo-od-analizy-modelu-do-stosowania-prawa-krakow-palac-larischa-9-10052019-r/
URL:https://oirp.lu/wydarzenie/ogolnopolska-konferencja-naukowa-rodo-od-analizy-modelu-do-stosowania-prawa/
LOCATION:Pałac Larischa\, Bracka 12\, Kraków
CATEGORIES:Szkolenia organizowane przez podmioty zewnętrzne
END:VEVENT
END:VCALENDAR