BEGIN:VCALENDAR
VERSION:2.0
PRODID:-//OIRP.LU: Okręgowa Izba Radców Prawnych w Lublinie - ECPv5.3.2.1//NONSGML v1.0//EN
CALSCALE:GREGORIAN
METHOD:PUBLISH
X-WR-CALNAME:OIRP.LU: Okręgowa Izba Radców Prawnych w Lublinie
X-ORIGINAL-URL:https://oirp.lu
X-WR-CALDESC:Wydarzenia na OIRP.LU: Okręgowa Izba Radców Prawnych w Lublinie
BEGIN:VTIMEZONE
TZID:Europe/Warsaw
BEGIN:DAYLIGHT
TZOFFSETFROM:+0100
TZOFFSETTO:+0200
TZNAME:CEST
DTSTART:20190331T010000
END:DAYLIGHT
BEGIN:STANDARD
TZOFFSETFROM:+0200
TZOFFSETTO:+0100
TZNAME:CET
DTSTART:20191027T010000
END:STANDARD
END:VTIMEZONE
BEGIN:VEVENT
DTSTART;TZID=Europe/Warsaw:20191021T090000
DTEND;TZID=Europe/Warsaw:20191021T140000
DTSTAMP:20210423T105105
CREATED:20190826T074204Z
LAST-MODIFIED:20190826T074204Z
UID:4092-1571648400-1571666400@oirp.lu
SUMMARY:Podatki w praktyce wykonywania zawodu przez radcę prawnego. Wybrane zagadnienia
DESCRIPTION:Wykładowca: radca prawny Monika Markisz \n[rtec-registration-form event=4092]
URL:https://oirp.lu/wydarzenie/podatki-w-praktyce-wykonywania-zawodu-przez-radce-prawnego-wybrane-zagadnienia/
LOCATION:Okręgowa Izba Radców Prawnych w Lublinie\, ul. Konrada Wallenroda 2e\, Lublin\, 20-607\, Polska
CATEGORIES:1-dniowe konferencje szkoleniowe OIRP w Lublinie
ORGANIZER;CN="Okr%C4%99gowa%20Izba%20Radc%C3%B3w%20Prawnych%20w%20Lublinie":MAILTO:poczta@oirp.lublin.pl
END:VEVENT
END:VCALENDAR