BEGIN:VCALENDAR
VERSION:2.0
PRODID:-//OIRP.LU: Okręgowa Izba Radców Prawnych w Lublinie - ECPv5.3.2.1//NONSGML v1.0//EN
CALSCALE:GREGORIAN
METHOD:PUBLISH
X-WR-CALNAME:OIRP.LU: Okręgowa Izba Radców Prawnych w Lublinie
X-ORIGINAL-URL:https://oirp.lu
X-WR-CALDESC:Wydarzenia na OIRP.LU: Okręgowa Izba Radców Prawnych w Lublinie
BEGIN:VTIMEZONE
TZID:Europe/Warsaw
BEGIN:DAYLIGHT
TZOFFSETFROM:+0100
TZOFFSETTO:+0200
TZNAME:CEST
DTSTART:20180325T010000
END:DAYLIGHT
BEGIN:STANDARD
TZOFFSETFROM:+0200
TZOFFSETTO:+0100
TZNAME:CET
DTSTART:20181028T010000
END:STANDARD
END:VTIMEZONE
BEGIN:VEVENT
DTSTART;TZID=Europe/Warsaw:20181112T090000
DTEND;TZID=Europe/Warsaw:20181112T140000
DTSTAMP:20210424T023948
CREATED:20180817T150642Z
LAST-MODIFIED:20180817T150703Z
UID:2409-1542013200-1542031200@oirp.lu
SUMMARY:Szkody na osobie i w mieniu powstałe na skutek ruchu pojazdów mechanicznych. Materialnoprawne i procesowe aspekty dochodzenia roszczeń.
DESCRIPTION:Wykładowca: Sędzia Sądu Okręgowego w Lublinie Anna Wołucka- Ławnikowicz
URL:https://oirp.lu/wydarzenie/szkody-na-osobie-i-w-mieniu-powstale-na-skutek-ruchu-pojazdow-mechanicznych-materialnoprawne-i-procesowe-aspekty-dochodzenia-roszczen/
LOCATION:Okręgowa Izba Radców Prawnych w Lublinie\, ul. Konrada Wallenroda 2e\, Lublin\, 20-607\, Polska
CATEGORIES:1-dniowe konferencje szkoleniowe OIRP w Lublinie
ATTACH;FMTTYPE=image/jpeg:https://oirp.lu/wp-content/uploads/2018/07/komunikaty-dla-aplikantow.jpg
ORGANIZER;CN="Okr%C4%99gowa%20Izba%20Radc%C3%B3w%20Prawnych%20w%20Lublinie":MAILTO:poczta@oirp.lublin.pl
END:VEVENT
END:VCALENDAR