BEGIN:VCALENDAR
VERSION:2.0
PRODID:-//OIRP.LU: Okręgowa Izba Radców Prawnych w Lublinie - ECPv5.3.2.1//NONSGML v1.0//EN
CALSCALE:GREGORIAN
METHOD:PUBLISH
X-WR-CALNAME:OIRP.LU: Okręgowa Izba Radców Prawnych w Lublinie
X-ORIGINAL-URL:https://oirp.lu
X-WR-CALDESC:Wydarzenia na OIRP.LU: Okręgowa Izba Radców Prawnych w Lublinie
BEGIN:VTIMEZONE
TZID:Europe/Warsaw
BEGIN:DAYLIGHT
TZOFFSETFROM:+0100
TZOFFSETTO:+0200
TZNAME:CEST
DTSTART:20190331T010000
END:DAYLIGHT
BEGIN:STANDARD
TZOFFSETFROM:+0200
TZOFFSETTO:+0100
TZNAME:CET
DTSTART:20191027T010000
END:STANDARD
END:VTIMEZONE
BEGIN:VEVENT
DTSTART;VALUE=DATE:20190329
DTEND;VALUE=DATE:20190330
DTSTAMP:20210423T102924
CREATED:20190305T103406Z
LAST-MODIFIED:20190305T103406Z
UID:3524-1553817600-1553903999@oirp.lu
SUMMARY:Szkolenie KIDR - Kraków
DESCRIPTION:Krajowa Izba Doradców Restrukturyzacyjnych serdecznie zaprasza do udziału w szkoleniu\, które odbędzie się w dniu 29 marca 2019 r. w Krakowie w siedzibie Krajowej Szkoły Sądownictwa i Prokuratury przy ul. Przy Rondzie 5. Szkolenie adresowane jest do wszystkich praktyków prawa upadłościowego i restrukturyzacyjnego. \n\n\n			\n	\n			Pliki do pobrania	\n\n\n\n	\n\n	\n		\n		\n\n			\n							 \n			\n							\n			KIDR-zaproszenie-na-szkolenie-29-III-2019-r-Kraków-KSSiP\n			\n			\n\n			\n			\n			\n			\n							Rozmiar pliku: 390 KB
URL:https://oirp.lu/wydarzenie/szkolenie-kidr-krakow/
LOCATION:Krajowa Szkoła Sądownictwa i Prokuratury\, ul. Przy Rondzie 5\, Kraków\, Polska
CATEGORIES:Szkolenia organizowane przez podmioty zewnętrzne
END:VEVENT
END:VCALENDAR