BEGIN:VCALENDAR
VERSION:2.0
PRODID:-//OIRP.LU: Okręgowa Izba Radców Prawnych w Lublinie - ECPv5.3.2.1//NONSGML v1.0//EN
CALSCALE:GREGORIAN
METHOD:PUBLISH
X-WR-CALNAME:OIRP.LU: Okręgowa Izba Radców Prawnych w Lublinie
X-ORIGINAL-URL:https://oirp.lu
X-WR-CALDESC:Wydarzenia na OIRP.LU: Okręgowa Izba Radców Prawnych w Lublinie
BEGIN:VTIMEZONE
TZID:Europe/Warsaw
BEGIN:DAYLIGHT
TZOFFSETFROM:+0100
TZOFFSETTO:+0200
TZNAME:CEST
DTSTART:20190331T010000
END:DAYLIGHT
BEGIN:STANDARD
TZOFFSETFROM:+0200
TZOFFSETTO:+0100
TZNAME:CET
DTSTART:20191027T010000
END:STANDARD
END:VTIMEZONE
BEGIN:VEVENT
DTSTART;VALUE=DATE:20190410
DTEND;VALUE=DATE:20190411
DTSTAMP:20210423T102955
CREATED:20190314T141554Z
LAST-MODIFIED:20190314T141554Z
UID:3557-1554854400-1554940799@oirp.lu
SUMMARY:Wykład Prezesa SN Stanisława Zabłockiego pt. "Wrażliwość Sędziego"
DESCRIPTION:Stowarzyszenie Naukowe Pro Scientia Iuridica razem z Radą Wydziałową Samorządu Studentów Wydziału Prawa i Administracji UMCS mają zaszczyt i przyjemność zaprosić na wykład “Wrażliwość Sędziego” który poprowadzi Stanisław Zabłocki\, Prezes Sądu Najwyższego kierujący Izbą Karną. \nWszystkich zainteresowanych studentów oraz pracowników zapraszamy 10 kwietnia 2019 roku o godzinie 16:00 do Sali Posiedzeń Rady Wydziału WPiA UMCS.
URL:https://oirp.lu/wydarzenie/wyklad-prezesa-sn-stanislawa-zablockiego-pt-wrazliwosc-sedziego/
LOCATION:Sala Posiedzeń Rady Wydziału WPiA UMCS
CATEGORIES:Szkolenia organizowane przez podmioty zewnętrzne
END:VEVENT
END:VCALENDAR